View In:
ArcGIS JavaScript
ArcGIS Online Map Viewer
ArcGIS Earth
ArcMap
View Footprint In:
ArcGIS Online Map Viewer
Service Description: Every 2 years Eagleview (formerly Pictometry) flies a fleet of planes over Richardson Tx and collects orthoimagery for GIS. This raster contains 3" resolution aerial imagerythat was collected in January 2023.
This orthoimagery is also hosted online in a web map application "ConnectExplorer" where you can view oblique angles. City employees can contact GISDept@cor.gov for a username to access it.
Name: Aerial2023
Description: Every 2 years Eagleview (formerly Pictometry) flies a fleet of planes over Richardson Tx and collects orthoimagery for GIS. This raster contains 3" resolution aerial imagerythat was collected in January 2023.
This orthoimagery is also hosted online in a web map application "ConnectExplorer" where you can view oblique angles. City employees can contact GISDept@cor.gov for a username to access it.
Single Fused Map Cache: false
Extent:
XMin: 2495439
YMin: 7022934
XMax: 2548506.75
YMax: 7055427
Spatial Reference: 102738
(2276)
Initial Extent:
XMin: 2495439
YMin: 7022934
XMax: 2548506.75
YMax: 7055427
Spatial Reference: 102738
(2276)
Full Extent:
XMin: 2495439
YMin: 7022934
XMax: 2548506.75
YMax: 7055427
Spatial Reference: 102738
(2276)
Pixel Size X: 0.25
Pixel Size Y: 0.25
Band Count: 3
Pixel Type: U8
RasterFunction Infos: {"rasterFunctionInfos": [{
"name": "None",
"description": "",
"help": ""
}]}
Mensuration Capabilities: Basic
Has Histograms: true
Has Colormap: false
Has Multi Dimensions : false
Rendering Rule:
Min Scale: 0
Max Scale: 0
Copyright Text: EagleView (Pictometry
Service Data Type: esriImageServiceDataTypeProcessed
Min Values: 53, 40, 20
Max Values: 255, 255, 255
Mean Values: 170.193359375, 162.21228966346, 146.60216346154
Standard Deviation Values: 61.143259801251, 66.09386426466, 76.17358297281
Object ID Field:
Fields:
None
Default Mosaic Method: Center
Allowed Mosaic Methods:
SortField:
SortValue: null
Mosaic Operator: First
Default Compression Quality: 75
Default Resampling Method: Bilinear
Max Record Count: null
Max Image Height: 4100
Max Image Width: 15000
Max Download Image Count: null
Max Mosaic Image Count: null
Allow Raster Function: true
Allow Compute TiePoints: false
Supports Statistics: false
Supports Advanced Queries: false
Use StandardizedQueries: true
Raster Type Infos:
Name: Raster Dataset
Description: Supports all ArcGIS Raster Datasets
Help:
Has Raster Attribute Table: false
Edit Fields Info: null
Ownership Based AccessControl For Rasters: null
Child Resources:
Info
Histograms
Key Properties
Legend
MultiDimensionalInfo
rasterFunctionInfos
Supported Operations:
Export Image
Identify
Measure
Compute Histograms
Compute Statistics Histograms
Get Samples
Compute Class Statistics
Query Boundary
Compute Pixel Location